BEGIN:VCALENDAR
VERSION:2.0
PRODID:-//eventon.com NONSGML v1.0//EN
CALSCALE:GREGORIAN
METHOD:PUBLISH
BEGIN:VEVENT
UID:69e8348c9bb6b
DTSTAMP:20260422T023804Z
DTSTART:20240530T090000Z
DTEND:20240530T110000Z
LOCATION:Enfield Park Enfield Park\,  Camelford\,  Cornwall\,  PL32
SUMMARY:FAMILY FUN RUN
DESCRIPTION:\nhttp://www.visitcamelford.co.uk/events/family-fun-run/
URL:http://www.visitcamelford.co.uk/events/family-fun-run/
END:VEVENT
END:VCALENDAR